BEGIN:VCALENDAR
VERSION:2.0
PRODID:-//A Purrfect Friend - ECPv6.15.16//NONSGML v1.0//EN
CALSCALE:GREGORIAN
METHOD:PUBLISH
X-WR-CALNAME:A Purrfect Friend
X-ORIGINAL-URL:https://purrfectfriendcatrescue.org
X-WR-CALDESC:Events for A Purrfect Friend
REFRESH-INTERVAL;VALUE=DURATION:PT1H
X-Robots-Tag:noindex
X-PUBLISHED-TTL:PT1H
BEGIN:VTIMEZONE
TZID:Europe/London
BEGIN:DAYLIGHT
TZOFFSETFROM:+0000
TZOFFSETTO:+0100
TZNAME:BST
DTSTART:20240331T010000
END:DAYLIGHT
BEGIN:STANDARD
TZOFFSETFROM:+0100
TZOFFSETTO:+0000
TZNAME:GMT
DTSTART:20241027T010000
END:STANDARD
BEGIN:DAYLIGHT
TZOFFSETFROM:+0000
TZOFFSETTO:+0100
TZNAME:BST
DTSTART:20250330T010000
END:DAYLIGHT
BEGIN:STANDARD
TZOFFSETFROM:+0100
TZOFFSETTO:+0000
TZNAME:GMT
DTSTART:20251026T010000
END:STANDARD
BEGIN:DAYLIGHT
TZOFFSETFROM:+0000
TZOFFSETTO:+0100
TZNAME:BST
DTSTART:20260329T010000
END:DAYLIGHT
BEGIN:STANDARD
TZOFFSETFROM:+0100
TZOFFSETTO:+0000
TZNAME:GMT
DTSTART:20261025T010000
END:STANDARD
END:VTIMEZONE
BEGIN:VEVENT
DTSTART;TZID=Europe/London:20250629T100000
DTEND;TZID=Europe/London:20250629T160000
DTSTAMP:20260423T213041
CREATED:20250521T140711Z
LAST-MODIFIED:20250521T140711Z
UID:3016-1751191200-1751212800@purrfectfriendcatrescue.org
SUMMARY:Knit One Purr One Craft stall at Watersports Centre\, Fairhaven Lake
DESCRIPTION:
URL:https://purrfectfriendcatrescue.org/event/knit-one-purr-one-craft-stall-at-watersports-centre-fairhaven-lake/
LOCATION:Watersports Centre\, Fairhaven Lake\, Ansdell\, FY8 1BD
END:VEVENT
BEGIN:VEVENT
DTSTART;TZID=Europe/London:20250628T120000
DTEND;TZID=Europe/London:20250628T160000
DTSTAMP:20260423T213041
CREATED:20250521T140446Z
LAST-MODIFIED:20250521T140446Z
UID:3013-1751112000-1751126400@purrfectfriendcatrescue.org
SUMMARY:Stall at Craft De-stash de-clutter event
DESCRIPTION:this is a first visit to this venue and we have lots and lots of craft supplies to sell. (Jeanette has named it A Leaning Tower of Craft Stuff)
URL:https://purrfectfriendcatrescue.org/event/stall-at-craft-de-stash-de-clutter-event/
LOCATION:Slyne with Hest Memorial Hall\, Hanging Green LAne\, Slyne\, Lancs\, LA2 6JB
END:VEVENT
BEGIN:VEVENT
DTSTART;TZID=Europe/London:20250628T110000
DTEND;TZID=Europe/London:20250628T120000
DTSTAMP:20260423T213041
CREATED:20250521T135825Z
LAST-MODIFIED:20250521T135825Z
UID:3011-1751108400-1751112000@purrfectfriendcatrescue.org
SUMMARY:Jumble Sale at St Leonard's Penwortham
DESCRIPTION:
URL:https://purrfectfriendcatrescue.org/event/jumble-sale-at-st-leonards-penwortham/
LOCATION:St Leonards Church Hall\, Marshalls Brow\, Penwortham\, PR1 9JA
END:VEVENT
BEGIN:VEVENT
DTSTART;TZID=Europe/London:20250628T090000
DTEND;TZID=Europe/London:20250628T120000
DTSTAMP:20260423T213041
CREATED:20250521T140946Z
LAST-MODIFIED:20250521T140946Z
UID:3019-1751101200-1751112000@purrfectfriendcatrescue.org
SUMMARY:Stall at Table Top Sale Church Road Methodist Hall
DESCRIPTION:
URL:https://purrfectfriendcatrescue.org/event/stall-at-table-top-sale-church-road-methodist-hall/
LOCATION:Church Road Methodist Church\, Church Road\, St Annes\, FY8 3NE
END:VEVENT
BEGIN:VEVENT
DTSTART;TZID=Europe/London:20250614T113000
DTEND;TZID=Europe/London:20250614T163000
DTSTAMP:20260423T213041
CREATED:20250521T135622Z
LAST-MODIFIED:20250521T135622Z
UID:3009-1749900600-1749918600@purrfectfriendcatrescue.org
SUMMARY:Tombola at Penwortham Gala
DESCRIPTION:look for our green marquee and come and say hello
URL:https://purrfectfriendcatrescue.org/event/tombola-at-penwortham-gala/
LOCATION:Hurst Grange park\, Hill Road\, Penwortham\, PR1 9XH\, United Kingdom
END:VEVENT
BEGIN:VEVENT
DTSTART;TZID=Europe/London:20250614T090000
DTEND;TZID=Europe/London:20250614T123000
DTSTAMP:20260423T213041
CREATED:20250521T134751Z
LAST-MODIFIED:20250521T135011Z
UID:3005-1749891600-1749904200@purrfectfriendcatrescue.org
SUMMARY:Table Top Sale
DESCRIPTION:
URL:https://purrfectfriendcatrescue.org/event/stall-at-myerscough-open-day/
LOCATION:Lytham Methodist Church Hall\, 6 Park Street\, Lytham\, FY8 5LU
END:VEVENT
BEGIN:VEVENT
DTSTART;TZID=Europe/London:20250608T100000
DTEND;TZID=Europe/London:20250608T160000
DTSTAMP:20260423T213041
CREATED:20250501T144938Z
LAST-MODIFIED:20250501T144938Z
UID:2982-1749376800-1749398400@purrfectfriendcatrescue.org
SUMMARY:Stall at Myerscough college Open Day
DESCRIPTION:This is a great family event. Look out for our green gazebo. Please see their website for tickets.
URL:https://purrfectfriendcatrescue.org/event/stall-at-myerscough-college-open-day/
LOCATION:Myerscough College\, St Michael’s Road\, Bilsborrow\, PR3 0RY
END:VEVENT
BEGIN:VEVENT
DTSTART;TZID=Europe/London:20250608T100000
DTEND;TZID=Europe/London:20250608T153000
DTSTAMP:20260423T213041
CREATED:20250521T134510Z
LAST-MODIFIED:20250521T134510Z
UID:3003-1749376800-1749396600@purrfectfriendcatrescue.org
SUMMARY:Knit One Purr One stall at New Longton Village Hall
DESCRIPTION:
URL:https://purrfectfriendcatrescue.org/event/knit-one-purr-one-stall-at-new-longton-village-hall/
LOCATION:New Longton Village Hall\, Boundary Close\, New Longton\, Lancs\, PR4 4BD
END:VEVENT
BEGIN:VEVENT
DTSTART;TZID=Europe/London:20250607T100000
DTEND;TZID=Europe/London:20250607T160000
DTSTAMP:20260423T213041
CREATED:20250521T134025Z
LAST-MODIFIED:20250521T134025Z
UID:3001-1749290400-1749312000@purrfectfriendcatrescue.org
SUMMARY:Knit One Purr One stall at the Watersports Centre Fairhaven Lake
DESCRIPTION:
URL:https://purrfectfriendcatrescue.org/event/knit-one-purr-one-stall-at-the-watersports-centre-fairhaven-lake/
LOCATION:Watersports Centre\, Fairhaven Lake\, Ansdell\, FY8 1BD
END:VEVENT
BEGIN:VEVENT
DTSTART;TZID=Europe/London:20250601T103000
DTEND;TZID=Europe/London:20250601T160000
DTSTAMP:20260423T213041
CREATED:20250521T133837Z
LAST-MODIFIED:20250521T133837Z
UID:2999-1748773800-1748793600@purrfectfriendcatrescue.org
SUMMARY:Knit one Purr one craft stall at World of Water
DESCRIPTION:Preston New Road Westby
URL:https://purrfectfriendcatrescue.org/event/knit-one-purr-one-craft-stall-at-world-of-water/
LOCATION:World of Water Aquatic Centre\, Preston New Road\, Kirkham\, PR4 3PE
END:VEVENT
BEGIN:VEVENT
DTSTART;TZID=Europe/London:20250531T090000
DTEND;TZID=Europe/London:20250531T120000
DTSTAMP:20260423T213041
CREATED:20250317T131946Z
LAST-MODIFIED:20250317T131946Z
UID:2948-1748682000-1748692800@purrfectfriendcatrescue.org
SUMMARY:Table Top sale
DESCRIPTION:
URL:https://purrfectfriendcatrescue.org/event/table-top-sale-6/
LOCATION:Church Road Methodist Church\, Church Road\, St Annes\, FY8 3NE
END:VEVENT
BEGIN:VEVENT
DTSTART;TZID=Europe/London:20250524T110000
DTEND;TZID=Europe/London:20250524T120000
DTSTAMP:20260423T213041
CREATED:20250317T131725Z
LAST-MODIFIED:20250317T131725Z
UID:2946-1748084400-1748088000@purrfectfriendcatrescue.org
SUMMARY:Jumble sale
DESCRIPTION:
URL:https://purrfectfriendcatrescue.org/event/jumble-sale-5/
LOCATION:St Leonards Church Hall\, Marshalls Brow\, Penwortham\, PR1 9JA
END:VEVENT
BEGIN:VEVENT
DTSTART;TZID=Europe/London:20250511T100000
DTEND;TZID=Europe/London:20250511T150000
DTSTAMP:20260423T213041
CREATED:20250317T131518Z
LAST-MODIFIED:20250317T131518Z
UID:2944-1746957600-1746975600@purrfectfriendcatrescue.org
SUMMARY:Knit One Purr One craft stall SPONSORED BY LAUGHING LAMB COMEDY CLUB
DESCRIPTION:
URL:https://purrfectfriendcatrescue.org/event/knit-one-purr-one-craft-stall-sponsored-by-laughing-lamb-comedy-club/
LOCATION:New Longton Village Hall\, Boundary Close\, New Longton\, Lancs\, PR4 4BD
END:VEVENT
BEGIN:VEVENT
DTSTART;TZID=Europe/London:20250510T103000
DTEND;TZID=Europe/London:20250510T150000
DTSTAMP:20260423T213041
CREATED:20250205T114012Z
LAST-MODIFIED:20250205T114012Z
UID:2855-1746873000-1746889200@purrfectfriendcatrescue.org
SUMMARY:Animal Charity Fair
DESCRIPTION:We have a stall at this event organised by Carol Walker. Its a great event and as well as our stall takings\, A Purrfect Friend will also receive a percentage of all the profits from the door\, raffle and kitchen. Its’ a lovely event giving small local animal charities the opportunity of raising much need funds.
URL:https://purrfectfriendcatrescue.org/event/animal-charity-fair/
LOCATION:Hoghton Village Hall\, Blackburn Old Road\, Hoghton\, PR5 0JN
END:VEVENT
BEGIN:VEVENT
DTSTART;TZID=Europe/London:20250510T100000
DTEND;TZID=Europe/London:20250510T160000
DTSTAMP:20260423T213041
CREATED:20250317T131201Z
LAST-MODIFIED:20250317T131201Z
UID:2941-1746871200-1746892800@purrfectfriendcatrescue.org
SUMMARY:Knit One Purr One craft stall
DESCRIPTION:
URL:https://purrfectfriendcatrescue.org/event/knit-one-purr-one-craft-stall-6/
LOCATION:Watersports Centre\, Fairhaven Lake\, Ansdell\, FY8 1BD
END:VEVENT
BEGIN:VEVENT
DTSTART;TZID=Europe/London:20250510T090000
DTEND;TZID=Europe/London:20250510T123000
DTSTAMP:20260423T213041
CREATED:20250317T130724Z
LAST-MODIFIED:20250317T130724Z
UID:2939-1746867600-1746880200@purrfectfriendcatrescue.org
SUMMARY:Table Top Sale
DESCRIPTION:
URL:https://purrfectfriendcatrescue.org/event/table-top-sale-5/
LOCATION:Lytham Methodist Church Hall\, 6 Park Street\, Lytham\, FY8 5LU
END:VEVENT
BEGIN:VEVENT
DTSTART;TZID=Europe/London:20250427T120000
DTEND;TZID=Europe/London:20250427T160000
DTSTAMP:20260423T213041
CREATED:20250317T130406Z
LAST-MODIFIED:20250317T130406Z
UID:2936-1745755200-1745769600@purrfectfriendcatrescue.org
SUMMARY:Knit One Purr One craft stall
DESCRIPTION:
URL:https://purrfectfriendcatrescue.org/event/knit-one-purr-one-craft-stall/
LOCATION:Glasson Dock Village Hall\, Bodie Hill\, Glasson Dock\, LA2 0DN
END:VEVENT
BEGIN:VEVENT
DTSTART;TZID=Europe/London:20250426T110000
DTEND;TZID=Europe/London:20250426T120000
DTSTAMP:20260423T213041
CREATED:20250317T125929Z
LAST-MODIFIED:20250317T125929Z
UID:2934-1745665200-1745668800@purrfectfriendcatrescue.org
SUMMARY:Jumble Sale
DESCRIPTION:
URL:https://purrfectfriendcatrescue.org/event/jumble-sale-4/
LOCATION:St Leonards Church Hall\, Marshalls Brow\, Penwortham\, PR1 9JA
END:VEVENT
BEGIN:VEVENT
DTSTART;TZID=Europe/London:20250421T103000
DTEND;TZID=Europe/London:20250421T160000
DTSTAMP:20260423T213041
CREATED:20250301T205222Z
LAST-MODIFIED:20250301T205222Z
UID:2897-1745231400-1745251200@purrfectfriendcatrescue.org
SUMMARY:Egg Rolling\, Avenham Park Easter Monday
DESCRIPTION:We will be taking our £1 a go\, prize every time tombola to this lovely family event
URL:https://purrfectfriendcatrescue.org/event/egg-rolling-avenham-park-easter-monday/
LOCATION:Avenham Park Preston\, South Meadow Lane\, Preston\, United Kingdom
END:VEVENT
BEGIN:VEVENT
DTSTART;TZID=Europe/London:20250413T100000
DTEND;TZID=Europe/London:20250413T150000
DTSTAMP:20260423T213041
CREATED:20250317T125652Z
LAST-MODIFIED:20250317T125652Z
UID:2932-1744538400-1744556400@purrfectfriendcatrescue.org
SUMMARY:Knit One Purr One stall  sponsored by Laughing Lamb Comedy Club
DESCRIPTION:
URL:https://purrfectfriendcatrescue.org/event/knit-one-purr-one-stall-sponsored-by-laughing-lamb-comedy-club/
LOCATION:New Longton Village Hall\, Boundary Close\, New Longton\, Lancs\, PR4 4BD
END:VEVENT
BEGIN:VEVENT
DTSTART;TZID=Europe/London:20250412T090000
DTEND;TZID=Europe/London:20250412T123000
DTSTAMP:20260423T213041
CREATED:20250317T125357Z
LAST-MODIFIED:20250317T125357Z
UID:2930-1744448400-1744461000@purrfectfriendcatrescue.org
SUMMARY:Table Top sale
DESCRIPTION:
URL:https://purrfectfriendcatrescue.org/event/table-top-sale-3/
LOCATION:Lytham Methodist Church Hall\, 6 Park Street\, Lytham\, FY8 5LU
END:VEVENT
BEGIN:VEVENT
DTSTART;TZID=Europe/London:20250406T110000
DTEND;TZID=Europe/London:20250406T150000
DTSTAMP:20260423T213041
CREATED:20250317T124544Z
LAST-MODIFIED:20250317T124931Z
UID:2926-1743937200-1743951600@purrfectfriendcatrescue.org
SUMMARY:Knit One Purr One stall
DESCRIPTION:craft stall at this lovely event in Leyland
URL:https://purrfectfriendcatrescue.org/event/knit-one-purr-one-stall/
LOCATION:St Mary’s Community Centre\, Broadfield Walk\, Leylanb\, PR25 1PD
END:VEVENT
BEGIN:VEVENT
DTSTART;TZID=Europe/London:20250406T100000
DTEND;TZID=Europe/London:20250406T160000
DTSTAMP:20260423T213041
CREATED:20250301T204429Z
LAST-MODIFIED:20250301T204429Z
UID:2894-1743933600-1743955200@purrfectfriendcatrescue.org
SUMMARY:Knit One Purr One craft stall
DESCRIPTION:
URL:https://purrfectfriendcatrescue.org/event/knit-one-purr-one-craft-stall-5/
LOCATION:World of Water Aquatic Centre\, Preston New Road\, Kirkham\, PR4 3PE
END:VEVENT
BEGIN:VEVENT
DTSTART;TZID=Europe/London:20250406T090000
DTEND;TZID=Europe/London:20250406T120000
DTSTAMP:20260423T213041
CREATED:20250316T161050Z
LAST-MODIFIED:20250316T161050Z
UID:2920-1743930000-1743940800@purrfectfriendcatrescue.org
SUMMARY:Indoor Car Boot Sale
DESCRIPTION:This is a new venue for Sunday car boots. We will be having a stall at this one.
URL:https://purrfectfriendcatrescue.org/event/indoor-car-boot-sale/
LOCATION:St Bernards Community Hub\, Elswick Road\, Preston\, Lancashire\, PR2 1NT
END:VEVENT
BEGIN:VEVENT
DTSTART;TZID=Europe/London:20250405T110000
DTEND;TZID=Europe/London:20250405T140000
DTSTAMP:20260423T213041
CREATED:20250316T162307Z
LAST-MODIFIED:20250316T162307Z
UID:2924-1743850800-1743861600@purrfectfriendcatrescue.org
SUMMARY:Happy Cats Easter Fair
DESCRIPTION:We will be having a stall at this event. Spud will also be there raising money for A Purrfect Friend\, Lancashire Cat Rescue and South Ribble Cat Welfare Trust.
URL:https://purrfectfriendcatrescue.org/event/happy-cats-easter-fair/
LOCATION:Woodnook Centre\, Royds Street\, Accrington\, BB5 2HU
END:VEVENT
BEGIN:VEVENT
DTSTART;TZID=Europe/London:20250405T090000
DTEND;TZID=Europe/London:20250405T160000
DTSTAMP:20260423T213041
CREATED:20250301T204306Z
LAST-MODIFIED:20250301T204306Z
UID:2892-1743843600-1743868800@purrfectfriendcatrescue.org
SUMMARY:Knit one Purr one craft stall
DESCRIPTION:
URL:https://purrfectfriendcatrescue.org/event/knit-one-purr-one-craft-stall-4/
LOCATION:World of Water Aquatic Centre\, Preston New Road\, Kirkham\, PR4 3PE
END:VEVENT
BEGIN:VEVENT
DTSTART;TZID=Europe/London:20250329T090000
DTEND;TZID=Europe/London:20250329T120000
DTSTAMP:20260423T213041
CREATED:20250301T204130Z
LAST-MODIFIED:20250301T204130Z
UID:2890-1743238800-1743249600@purrfectfriendcatrescue.org
SUMMARY:Table Top Sale
DESCRIPTION:
URL:https://purrfectfriendcatrescue.org/event/table-top-sale-2/
LOCATION:Church Road Methodist Church\, Church Road\, St Annes\, FY8 3NE
END:VEVENT
BEGIN:VEVENT
DTSTART;TZID=Europe/London:20250322T110000
DTEND;TZID=Europe/London:20250322T120000
DTSTAMP:20260423T213041
CREATED:20250301T203941Z
LAST-MODIFIED:20250301T203941Z
UID:2888-1742641200-1742644800@purrfectfriendcatrescue.org
SUMMARY:Jumble Sale
DESCRIPTION:
URL:https://purrfectfriendcatrescue.org/event/jumble-sale/
LOCATION:St Leonards Church Hall\, Marshalls Brow\, Penwortham\, PR1 9JA
END:VEVENT
BEGIN:VEVENT
DTSTART;TZID=Europe/London:20250322T100000
DTEND;TZID=Europe/London:20250322T160000
DTSTAMP:20260423T213041
CREATED:20250301T203831Z
LAST-MODIFIED:20250301T203831Z
UID:2886-1742637600-1742659200@purrfectfriendcatrescue.org
SUMMARY:Knit One Purr One craft stall
DESCRIPTION:We are back at the water sports centre
URL:https://purrfectfriendcatrescue.org/event/knit-one-purr-one-craft-stall-3/
LOCATION:Fairhaven Lake\, FY8 1BD
END:VEVENT
BEGIN:VEVENT
DTSTART;TZID=Europe/London:20250309T100000
DTEND;TZID=Europe/London:20250309T153000
DTSTAMP:20260423T213041
CREATED:20250111T141533Z
LAST-MODIFIED:20250111T141533Z
UID:2842-1741514400-1741534200@purrfectfriendcatrescue.org
SUMMARY:Knit One Purr One craft fair stall
DESCRIPTION:
URL:https://purrfectfriendcatrescue.org/event/knit-one-purr-one-craft-fair-stall/
LOCATION:New Longton Village Hall\, Boundary Close\, New Longton\, Lancs\, PR4 4BD
END:VEVENT
END:VCALENDAR