BEGIN:VCALENDAR
VERSION:2.0
PRODID:-//A Purrfect Friend - ECPv6.15.16//NONSGML v1.0//EN
CALSCALE:GREGORIAN
METHOD:PUBLISH
X-WR-CALNAME:A Purrfect Friend
X-ORIGINAL-URL:https://purrfectfriendcatrescue.org
X-WR-CALDESC:Events for A Purrfect Friend
REFRESH-INTERVAL;VALUE=DURATION:PT1H
X-Robots-Tag:noindex
X-PUBLISHED-TTL:PT1H
BEGIN:VTIMEZONE
TZID:Europe/London
BEGIN:DAYLIGHT
TZOFFSETFROM:+0000
TZOFFSETTO:+0100
TZNAME:BST
DTSTART:20240331T010000
END:DAYLIGHT
BEGIN:STANDARD
TZOFFSETFROM:+0100
TZOFFSETTO:+0000
TZNAME:GMT
DTSTART:20241027T010000
END:STANDARD
BEGIN:DAYLIGHT
TZOFFSETFROM:+0000
TZOFFSETTO:+0100
TZNAME:BST
DTSTART:20250330T010000
END:DAYLIGHT
BEGIN:STANDARD
TZOFFSETFROM:+0100
TZOFFSETTO:+0000
TZNAME:GMT
DTSTART:20251026T010000
END:STANDARD
BEGIN:DAYLIGHT
TZOFFSETFROM:+0000
TZOFFSETTO:+0100
TZNAME:BST
DTSTART:20260329T010000
END:DAYLIGHT
BEGIN:STANDARD
TZOFFSETFROM:+0100
TZOFFSETTO:+0000
TZNAME:GMT
DTSTART:20261025T010000
END:STANDARD
END:VTIMEZONE
BEGIN:VEVENT
DTSTART;TZID=Europe/London:20251122T140000
DTEND;TZID=Europe/London:20251122T153000
DTSTAMP:20260424T001426
CREATED:20251014T140256Z
LAST-MODIFIED:20251014T140308Z
UID:3155-1763820000-1763825400@purrfectfriendcatrescue.org
SUMMARY:A Purrfect Friend Christmas Fair
DESCRIPTION:Please come and join us\,
URL:https://purrfectfriendcatrescue.org/event/a-purrfect-friend-christmas-fair/
LOCATION:St Leonards Church Hall\, Marshalls Brow\, Penwortham\, PR1 9JA
END:VEVENT
BEGIN:VEVENT
DTSTART;TZID=Europe/London:20251122T140000
DTEND;TZID=Europe/London:20251122T153000
DTSTAMP:20260424T001426
CREATED:20250804T031042Z
LAST-MODIFIED:20250804T031042Z
UID:3093-1763820000-1763825400@purrfectfriendcatrescue.org
SUMMARY:Christmas Fair
DESCRIPTION:Please come and join us at our annual Christmas Fair
URL:https://purrfectfriendcatrescue.org/event/christmas-fair-2/
LOCATION:St Leonards Church Hall\, Marshalls Brow\, Penwortham\, PR1 9JA
END:VEVENT
BEGIN:VEVENT
DTSTART;TZID=Europe/London:20251115T110000
DTEND;TZID=Europe/London:20251115T120000
DTSTAMP:20260424T001426
CREATED:20251014T140059Z
LAST-MODIFIED:20251014T140059Z
UID:3153-1763204400-1763208000@purrfectfriendcatrescue.org
SUMMARY:Jumble Sale
DESCRIPTION:our last Jumble sale of 2025
URL:https://purrfectfriendcatrescue.org/event/jumble-sale-6/
LOCATION:St Leonards Church Hall\, Marshalls Brow\, Penwortham\, PR1 9JA
END:VEVENT
BEGIN:VEVENT
DTSTART;TZID=Europe/London:20251109T100000
DTEND;TZID=Europe/London:20251109T153000
DTSTAMP:20260424T001426
CREATED:20251014T135750Z
LAST-MODIFIED:20251014T135750Z
UID:3151-1762682400-1762702200@purrfectfriendcatrescue.org
SUMMARY:KnitOne PurrOne craft stall
DESCRIPTION:
URL:https://purrfectfriendcatrescue.org/event/knitone-purrone-craft-stall/
LOCATION:New Longton Village Hall\, Boundary Close\, New Longton\, Lancs\, PR4 4BD
END:VEVENT
BEGIN:VEVENT
DTSTART;TZID=Europe/London:20251108T090000
DTEND;TZID=Europe/London:20251108T123000
DTSTAMP:20260424T001426
CREATED:20251014T112523Z
LAST-MODIFIED:20251014T112523Z
UID:3140-1762592400-1762605000@purrfectfriendcatrescue.org
SUMMARY:Table Top Sale
DESCRIPTION:
URL:https://purrfectfriendcatrescue.org/event/table-top-sale/
LOCATION:Lytham Methodist Church Hall\, 6 Park Street\, Lytham\, FY8 5LU
END:VEVENT
BEGIN:VEVENT
DTSTART;TZID=Europe/London:20251101T100000
DTEND;TZID=Europe/London:20251101T150000
DTSTAMP:20260424T001426
CREATED:20251014T111516Z
LAST-MODIFIED:20251014T111516Z
UID:3138-1761991200-1762009200@purrfectfriendcatrescue.org
SUMMARY:Small Animals Charity Fair
DESCRIPTION:please come and visit us at this wonderful supporting ourselves and lots of other small animal charities including Lancashire  Cat Rescue and of course SRPCC Cat Welfare Trust
URL:https://purrfectfriendcatrescue.org/event/small-animals-charity-fair/
LOCATION:Hoghton Village Hall\, Blackburn Old Road\, Hoghton\, PR5 0JN
END:VEVENT
BEGIN:VEVENT
DTSTART;TZID=Europe/London:20251026T100000
DTEND;TZID=Europe/London:20251026T160000
DTSTAMP:20260424T001426
CREATED:20251014T104546Z
LAST-MODIFIED:20251014T104546Z
UID:3136-1761472800-1761494400@purrfectfriendcatrescue.org
SUMMARY:Knit one Purr one craft stall
DESCRIPTION:This will be our last craft stall at this venue in 2025
URL:https://purrfectfriendcatrescue.org/event/knit-one-purr-one-craft-stall-8/
LOCATION:Watersports Centre\, Fairhaven Lake\, Ansdell\, FY8 1BD
END:VEVENT
BEGIN:VEVENT
DTSTART;TZID=Europe/London:20251025T110000
DTEND;TZID=Europe/London:20251025T120000
DTSTAMP:20260424T001426
CREATED:20251014T103347Z
LAST-MODIFIED:20251014T103347Z
UID:3132-1761390000-1761393600@purrfectfriendcatrescue.org
SUMMARY:Jumble Sale
DESCRIPTION:This is our penultimate jumble of  2025. Come and grab some bargains
URL:https://purrfectfriendcatrescue.org/event/jumble-sale-3/
LOCATION:St Leonards Church Hall\, Marshalls Brow\, Penwortham\, PR1 9JA
END:VEVENT
BEGIN:VEVENT
DTSTART;TZID=Europe/London:20251025T100000
DTEND;TZID=Europe/London:20251025T160000
DTSTAMP:20260424T001426
CREATED:20251014T104011Z
LAST-MODIFIED:20251014T104011Z
UID:3134-1761386400-1761408000@purrfectfriendcatrescue.org
SUMMARY:Knit one Purr One Craft stall
DESCRIPTION:Will be having a stall at this venue on both Saturday and Sunday of this weekend
URL:https://purrfectfriendcatrescue.org/event/knit-one-purr-one-craft-stall-7/
LOCATION:Watersports Centre\, Fairhaven Lake\, Ansdell\, FY8 1BD
END:VEVENT
BEGIN:VEVENT
DTSTART;TZID=Europe/London:20251018T110000
DTEND;TZID=Europe/London:20251018T150000
DTSTAMP:20260424T001426
CREATED:20251014T103142Z
LAST-MODIFIED:20251014T103142Z
UID:3130-1760785200-1760799600@purrfectfriendcatrescue.org
SUMMARY:Happy Cats Hyndburn Autumn Fair
DESCRIPTION:We will be having a stall at this lovely event.
URL:https://purrfectfriendcatrescue.org/event/happy-cats-hyndburn-autumn-fair/
LOCATION:Woodnook Centre\, Royds Street\, Accrington\, BB5 2HU
END:VEVENT
BEGIN:VEVENT
DTSTART;TZID=Europe/London:20250906T140000
DTEND;TZID=Europe/London:20250906T153000
DTSTAMP:20260424T001426
CREATED:20241122T143105Z
LAST-MODIFIED:20250804T032756Z
UID:2798-1757167200-1757172600@purrfectfriendcatrescue.org
SUMMARY:Cat Extravaganza
DESCRIPTION:
URL:https://purrfectfriendcatrescue.org/event/cat-extravaganza/
LOCATION:St Leonards Church Hall\, Marshalls Brow\, Penwortham\, PR1 9JA
END:VEVENT
BEGIN:VEVENT
DTSTART;TZID=Europe/London:20250830T090000
DTEND;TZID=Europe/London:20250830T120000
DTSTAMP:20260424T001426
CREATED:20250710T192258Z
LAST-MODIFIED:20250710T193536Z
UID:3082-1756544400-1756555200@purrfectfriendcatrescue.org
SUMMARY:Stall at Table Top Sale
DESCRIPTION:
URL:https://purrfectfriendcatrescue.org/event/craft-stall-at-watersports-centre-ansdell-3/
LOCATION:Church Road Methodist Church\, Church Road\, St Annes\, FY8 3NE
END:VEVENT
BEGIN:VEVENT
DTSTART;TZID=Europe/London:20250825T100000
DTEND;TZID=Europe/London:20250825T160000
DTSTAMP:20260424T001426
CREATED:20250710T194002Z
LAST-MODIFIED:20250710T194002Z
UID:3086-1756116000-1756137600@purrfectfriendcatrescue.org
SUMMARY:Craft Stall at Watersports Centre Ansdell
DESCRIPTION:Day 3 of the Bank Holiday weekend
URL:https://purrfectfriendcatrescue.org/event/craft-stall-at-watersports-centre-ansdell-4/
LOCATION:Watersports Centre\, Fairhaven Lake\, Ansdell\, FY8 1BD
END:VEVENT
BEGIN:VEVENT
DTSTART;TZID=Europe/London:20250824T100000
DTEND;TZID=Europe/London:20250824T160000
DTSTAMP:20260424T001426
CREATED:20250710T190635Z
LAST-MODIFIED:20250710T191859Z
UID:3076-1756029600-1756051200@purrfectfriendcatrescue.org
SUMMARY:Craft Stall at Watersports Centre Ansdell
DESCRIPTION:Knit One Purr One craft stall
URL:https://purrfectfriendcatrescue.org/event/craft-stall-at-watersports-centre-ansdell/
LOCATION:Watersports Centre\, Fairhaven Lake\, Ansdell\, FY8 1BD
END:VEVENT
BEGIN:VEVENT
DTSTART;TZID=Europe/London:20250823T110000
DTEND;TZID=Europe/London:20250823T120000
DTSTAMP:20260424T001426
CREATED:20250521T143148Z
LAST-MODIFIED:20250521T143148Z
UID:3038-1755946800-1755950400@purrfectfriendcatrescue.org
SUMMARY:Jumble Sale at St Leonards
DESCRIPTION:
URL:https://purrfectfriendcatrescue.org/event/jumble-sale-at-st-leonards/
LOCATION:St Leonards Church Hall\, Marshalls Brow\, Penwortham\, PR1 9JA
END:VEVENT
BEGIN:VEVENT
DTSTART;TZID=Europe/London:20250823T100000
DTEND;TZID=Europe/London:20250823T160000
DTSTAMP:20260424T001426
CREATED:20250710T191202Z
LAST-MODIFIED:20250710T191202Z
UID:3078-1755943200-1755964800@purrfectfriendcatrescue.org
SUMMARY:Craft Stall at Watersports Centre\, Fairhaven Lake
DESCRIPTION:Knit One Purr One stall
URL:https://purrfectfriendcatrescue.org/event/craft-stall-at-watersports-centre-fairhaven-lake/
LOCATION:Watersports Centre\, Fairhaven Lake\, Ansdell\, FY8 1BD
END:VEVENT
BEGIN:VEVENT
DTSTART;TZID=Europe/London:20250809T110000
DTEND;TZID=Europe/London:20250809T150000
DTSTAMP:20260424T001426
CREATED:20250710T190014Z
LAST-MODIFIED:20250804T033236Z
UID:3073-1754737200-1754751600@purrfectfriendcatrescue.org
SUMMARY:Hugo's Small Animal Rescue Charity Event
DESCRIPTION:We have been invited to have a free stall at this event. Please support the event
URL:https://purrfectfriendcatrescue.org/event/hugos-small-animal-rescue-charity-event/
LOCATION:Queen Elizabeth II Playing Fields\, Parkview4u\, Park View Rd\, Lytham\, FY8 4JE
END:VEVENT
BEGIN:VEVENT
DTSTART;TZID=Europe/London:20250802T140000
DTEND;TZID=Europe/London:20250802T160000
DTSTAMP:20260424T001426
CREATED:20250521T142450Z
LAST-MODIFIED:20250521T142841Z
UID:3034-1754143200-1754150400@purrfectfriendcatrescue.org
SUMMARY:Stall at Starr Hills Summer Fete\, Starr Hills Care Home Ansdell
DESCRIPTION:
URL:https://purrfectfriendcatrescue.org/event/knit-one-purr-one-craft-stall-watersports-centre-2/
LOCATION:Starr Hills Care Home\, 18 Ansdell Road South\, Ansdell\, Lytham St Annes\, FY8 5PQ
END:VEVENT
BEGIN:VEVENT
DTSTART;TZID=Europe/London:20250727T100000
DTEND;TZID=Europe/London:20250727T160000
DTSTAMP:20260424T001426
CREATED:20250710T191523Z
LAST-MODIFIED:20250710T191523Z
UID:3080-1753610400-1753632000@purrfectfriendcatrescue.org
SUMMARY:Craft Stall at Watersports Centre\, Ansdell
DESCRIPTION:Our Knit One Purr One craft stall
URL:https://purrfectfriendcatrescue.org/event/craft-stall-at-watersports-centre-ansdell-2/
LOCATION:Watersports Centre\, Fairhaven Lake\, Ansdell\, FY8 1BD
END:VEVENT
BEGIN:VEVENT
DTSTART;TZID=Europe/London:20250726T110000
DTEND;TZID=Europe/London:20250726T120000
DTSTAMP:20260424T001426
CREATED:20250521T141932Z
LAST-MODIFIED:20250521T141932Z
UID:3028-1753527600-1753531200@purrfectfriendcatrescue.org
SUMMARY:Jumble Sale
DESCRIPTION:
URL:https://purrfectfriendcatrescue.org/event/jumble-sale-2/
LOCATION:St Leonards Church Hall\, Marshalls Brow\, Penwortham\, PR1 9JA
END:VEVENT
BEGIN:VEVENT
DTSTART;TZID=Europe/London:20250726T100000
DTEND;TZID=Europe/London:20250726T160000
DTSTAMP:20260424T001426
CREATED:20250521T142304Z
LAST-MODIFIED:20250521T142304Z
UID:3032-1753524000-1753545600@purrfectfriendcatrescue.org
SUMMARY:Knit One Purr One Craft stall Watersports centre
DESCRIPTION:
URL:https://purrfectfriendcatrescue.org/event/knit-one-purr-one-craft-stall-watersports-centre/
LOCATION:Watersports Centre\, Fairhaven Lake\, Ansdell\, FY8 1BD
END:VEVENT
BEGIN:VEVENT
DTSTART;TZID=Europe/London:20250726T090000
DTEND;TZID=Europe/London:20250726T120000
DTSTAMP:20260424T001426
CREATED:20250521T142111Z
LAST-MODIFIED:20250521T142111Z
UID:3030-1753520400-1753531200@purrfectfriendcatrescue.org
SUMMARY:Table Top Sale Church Road Methodist
DESCRIPTION:
URL:https://purrfectfriendcatrescue.org/event/table-top-sale-church-road-methodist/
LOCATION:Church Road Methodist Church\, Church Road\, St Annes\, FY8 3NE
END:VEVENT
BEGIN:VEVENT
DTSTART;TZID=Europe/London:20250713T100000
DTEND;TZID=Europe/London:20250713T150000
DTSTAMP:20260424T001426
CREATED:20250521T141818Z
LAST-MODIFIED:20250521T141818Z
UID:3026-1752400800-1752418800@purrfectfriendcatrescue.org
SUMMARY:Knit One Purr One craft stall New Longton Village Hall
DESCRIPTION:
URL:https://purrfectfriendcatrescue.org/event/knit-one-purr-one-craft-stall-new-longton-village-hall/
LOCATION:New Longton Village Hall\, Boundary Close\, New Longton\, Lancs\, PR4 4BD
END:VEVENT
BEGIN:VEVENT
DTSTART;TZID=Europe/London:20250705T110000
DTEND;TZID=Europe/London:20250705T163000
DTSTAMP:20260424T001426
CREATED:20250521T141158Z
LAST-MODIFIED:20250521T141158Z
UID:3021-1751713200-1751733000@purrfectfriendcatrescue.org
SUMMARY:Tombola at Lostock Hall Carnival
DESCRIPTION:look out for our bright green gazebo
URL:https://purrfectfriendcatrescue.org/event/tombola-at-lostock-hall-carnival/
LOCATION:Lostock Hall Recreation Ground\, Hope Terrace\, Lostock Hall\, PR5 5JJ
END:VEVENT
BEGIN:VEVENT
DTSTART;TZID=Europe/London:20250629T100000
DTEND;TZID=Europe/London:20250629T160000
DTSTAMP:20260424T001426
CREATED:20250521T140711Z
LAST-MODIFIED:20250521T140711Z
UID:3016-1751191200-1751212800@purrfectfriendcatrescue.org
SUMMARY:Knit One Purr One Craft stall at Watersports Centre\, Fairhaven Lake
DESCRIPTION:
URL:https://purrfectfriendcatrescue.org/event/knit-one-purr-one-craft-stall-at-watersports-centre-fairhaven-lake/
LOCATION:Watersports Centre\, Fairhaven Lake\, Ansdell\, FY8 1BD
END:VEVENT
BEGIN:VEVENT
DTSTART;TZID=Europe/London:20250628T120000
DTEND;TZID=Europe/London:20250628T160000
DTSTAMP:20260424T001426
CREATED:20250521T140446Z
LAST-MODIFIED:20250521T140446Z
UID:3013-1751112000-1751126400@purrfectfriendcatrescue.org
SUMMARY:Stall at Craft De-stash de-clutter event
DESCRIPTION:this is a first visit to this venue and we have lots and lots of craft supplies to sell. (Jeanette has named it A Leaning Tower of Craft Stuff)
URL:https://purrfectfriendcatrescue.org/event/stall-at-craft-de-stash-de-clutter-event/
LOCATION:Slyne with Hest Memorial Hall\, Hanging Green LAne\, Slyne\, Lancs\, LA2 6JB
END:VEVENT
BEGIN:VEVENT
DTSTART;TZID=Europe/London:20250628T110000
DTEND;TZID=Europe/London:20250628T120000
DTSTAMP:20260424T001426
CREATED:20250521T135825Z
LAST-MODIFIED:20250521T135825Z
UID:3011-1751108400-1751112000@purrfectfriendcatrescue.org
SUMMARY:Jumble Sale at St Leonard's Penwortham
DESCRIPTION:
URL:https://purrfectfriendcatrescue.org/event/jumble-sale-at-st-leonards-penwortham/
LOCATION:St Leonards Church Hall\, Marshalls Brow\, Penwortham\, PR1 9JA
END:VEVENT
BEGIN:VEVENT
DTSTART;TZID=Europe/London:20250628T090000
DTEND;TZID=Europe/London:20250628T120000
DTSTAMP:20260424T001426
CREATED:20250521T140946Z
LAST-MODIFIED:20250521T140946Z
UID:3019-1751101200-1751112000@purrfectfriendcatrescue.org
SUMMARY:Stall at Table Top Sale Church Road Methodist Hall
DESCRIPTION:
URL:https://purrfectfriendcatrescue.org/event/stall-at-table-top-sale-church-road-methodist-hall/
LOCATION:Church Road Methodist Church\, Church Road\, St Annes\, FY8 3NE
END:VEVENT
BEGIN:VEVENT
DTSTART;TZID=Europe/London:20250614T113000
DTEND;TZID=Europe/London:20250614T163000
DTSTAMP:20260424T001426
CREATED:20250521T135622Z
LAST-MODIFIED:20250521T135622Z
UID:3009-1749900600-1749918600@purrfectfriendcatrescue.org
SUMMARY:Tombola at Penwortham Gala
DESCRIPTION:look for our green marquee and come and say hello
URL:https://purrfectfriendcatrescue.org/event/tombola-at-penwortham-gala/
LOCATION:Hurst Grange park\, Hill Road\, Penwortham\, PR1 9XH\, United Kingdom
END:VEVENT
BEGIN:VEVENT
DTSTART;TZID=Europe/London:20250614T090000
DTEND;TZID=Europe/London:20250614T123000
DTSTAMP:20260424T001426
CREATED:20250521T134751Z
LAST-MODIFIED:20250521T135011Z
UID:3005-1749891600-1749904200@purrfectfriendcatrescue.org
SUMMARY:Table Top Sale
DESCRIPTION:
URL:https://purrfectfriendcatrescue.org/event/stall-at-myerscough-open-day/
LOCATION:Lytham Methodist Church Hall\, 6 Park Street\, Lytham\, FY8 5LU
END:VEVENT
END:VCALENDAR