BEGIN:VCALENDAR
VERSION:2.0
PRODID:-//A Purrfect Friend - ECPv6.15.16//NONSGML v1.0//EN
CALSCALE:GREGORIAN
METHOD:PUBLISH
X-ORIGINAL-URL:https://purrfectfriendcatrescue.org
X-WR-CALDESC:Events for A Purrfect Friend
REFRESH-INTERVAL;VALUE=DURATION:PT1H
X-Robots-Tag:noindex
X-PUBLISHED-TTL:PT1H
BEGIN:VTIMEZONE
TZID:Europe/London
BEGIN:DAYLIGHT
TZOFFSETFROM:+0000
TZOFFSETTO:+0100
TZNAME:BST
DTSTART:20250330T010000
END:DAYLIGHT
BEGIN:STANDARD
TZOFFSETFROM:+0100
TZOFFSETTO:+0000
TZNAME:GMT
DTSTART:20251026T010000
END:STANDARD
BEGIN:DAYLIGHT
TZOFFSETFROM:+0000
TZOFFSETTO:+0100
TZNAME:BST
DTSTART:20260329T010000
END:DAYLIGHT
BEGIN:STANDARD
TZOFFSETFROM:+0100
TZOFFSETTO:+0000
TZNAME:GMT
DTSTART:20261025T010000
END:STANDARD
BEGIN:DAYLIGHT
TZOFFSETFROM:+0000
TZOFFSETTO:+0100
TZNAME:BST
DTSTART:20270328T010000
END:DAYLIGHT
BEGIN:STANDARD
TZOFFSETFROM:+0100
TZOFFSETTO:+0000
TZNAME:GMT
DTSTART:20271031T010000
END:STANDARD
END:VTIMEZONE
BEGIN:VEVENT
DTSTART;TZID=Europe/London:20260411T090000
DTEND;TZID=Europe/London:20260411T123000
DTSTAMP:20260423T223407
CREATED:20260325T220528Z
LAST-MODIFIED:20260325T220528Z
UID:3313-1775898000-1775910600@purrfectfriendcatrescue.org
SUMMARY:Table Top Sale
DESCRIPTION:
URL:https://purrfectfriendcatrescue.org/event/table-top-sale-9/
LOCATION:Lytham Methodist Church Hall\, 6 Park Street\, Lytham\, FY8 5LU
END:VEVENT
BEGIN:VEVENT
DTSTART;TZID=Europe/London:20260412T100000
DTEND;TZID=Europe/London:20260412T153000
DTSTAMP:20260423T223407
CREATED:20260325T214212Z
LAST-MODIFIED:20260325T214826Z
UID:3304-1775988000-1776007800@purrfectfriendcatrescue.org
SUMMARY:Craft stall
DESCRIPTION:
URL:https://purrfectfriendcatrescue.org/event/tombola-at-avenham-park-easter-egg-rolling-event/
LOCATION:New Longton Village Hall\, Boundary Close\, New Longton\, Lancs\, PR4 4BD
END:VEVENT
BEGIN:VEVENT
DTSTART;TZID=Europe/London:20260425T110000
DTEND;TZID=Europe/London:20260425T120000
DTSTAMP:20260423T223407
CREATED:20260325T213003Z
LAST-MODIFIED:20260325T213003Z
UID:3300-1777114800-1777118400@purrfectfriendcatrescue.org
SUMMARY:Jumble Sale
DESCRIPTION:Our 4th jumble of 2026
URL:https://purrfectfriendcatrescue.org/event/jumble-sale-10/
LOCATION:St Leonards Church Hall\, Marshalls Brow\, Penwortham\, PR1 9JA
END:VEVENT
BEGIN:VEVENT
DTSTART;TZID=Europe/London:20260509T090000
DTEND;TZID=Europe/London:20260509T123000
DTSTAMP:20260423T223407
CREATED:20260325T215319Z
LAST-MODIFIED:20260325T215621Z
UID:3308-1778317200-1778329800@purrfectfriendcatrescue.org
SUMMARY:Table Top Sale
DESCRIPTION:
URL:https://purrfectfriendcatrescue.org/event/small-animal-charities-fair/
LOCATION:Lytham Methodist Church Hall\, 6 Park Street\, Lytham\, FY8 5LU
END:VEVENT
BEGIN:VEVENT
DTSTART;TZID=Europe/London:20260509T090000
DTEND;TZID=Europe/London:20260509T150000
DTSTAMP:20260423T223407
CREATED:20260325T221111Z
LAST-MODIFIED:20260325T221111Z
UID:3317-1778317200-1778338800@purrfectfriendcatrescue.org
SUMMARY:Small animals charities Fair
DESCRIPTION:Please come and support all the charities at this lovely event organised by Carol Walker.\nSpud will be in attendance. There will be refreshments\, a raffle and lots of stalls supporting various small animals.
URL:https://purrfectfriendcatrescue.org/event/small-animals-charities-fair/
LOCATION:Hoghton Village Hall\, Blackburn Old Road\, Hoghton\, PR5 0JN
END:VEVENT
BEGIN:VEVENT
DTSTART;TZID=Europe/London:20260516T110000
DTEND;TZID=Europe/London:20260516T120000
DTSTAMP:20260423T223407
CREATED:20260325T213749Z
LAST-MODIFIED:20260325T213749Z
UID:3302-1778929200-1778932800@purrfectfriendcatrescue.org
SUMMARY:Jumble Sale
DESCRIPTION:Our 6th Jumble of 2026
URL:https://purrfectfriendcatrescue.org/event/jumble-sale-11/
END:VEVENT
BEGIN:VEVENT
DTSTART;TZID=Europe/London:20260530T140000
DTEND;TZID=Europe/London:20260530T153000
DTSTAMP:20260423T223407
CREATED:20260325T221404Z
LAST-MODIFIED:20260325T221404Z
UID:3319-1780149600-1780155000@purrfectfriendcatrescue.org
SUMMARY:Summer Fair
DESCRIPTION:
URL:https://purrfectfriendcatrescue.org/event/summer-fair/
LOCATION:St Leonards Church Hall\, Marshalls Brow\, Penwortham\, PR1 9JA
END:VEVENT
END:VCALENDAR