BEGIN:VCALENDAR
VERSION:2.0
PRODID:-//A Purrfect Friend - ECPv6.15.16//NONSGML v1.0//EN
CALSCALE:GREGORIAN
METHOD:PUBLISH
X-ORIGINAL-URL:https://purrfectfriendcatrescue.org
X-WR-CALDESC:Events for A Purrfect Friend
REFRESH-INTERVAL;VALUE=DURATION:PT1H
X-Robots-Tag:noindex
X-PUBLISHED-TTL:PT1H
BEGIN:VTIMEZONE
TZID:Europe/London
BEGIN:DAYLIGHT
TZOFFSETFROM:+0000
TZOFFSETTO:+0100
TZNAME:BST
DTSTART:20240331T010000
END:DAYLIGHT
BEGIN:STANDARD
TZOFFSETFROM:+0100
TZOFFSETTO:+0000
TZNAME:GMT
DTSTART:20241027T010000
END:STANDARD
BEGIN:DAYLIGHT
TZOFFSETFROM:+0000
TZOFFSETTO:+0100
TZNAME:BST
DTSTART:20250330T010000
END:DAYLIGHT
BEGIN:STANDARD
TZOFFSETFROM:+0100
TZOFFSETTO:+0000
TZNAME:GMT
DTSTART:20251026T010000
END:STANDARD
BEGIN:DAYLIGHT
TZOFFSETFROM:+0000
TZOFFSETTO:+0100
TZNAME:BST
DTSTART:20260329T010000
END:DAYLIGHT
BEGIN:STANDARD
TZOFFSETFROM:+0100
TZOFFSETTO:+0000
TZNAME:GMT
DTSTART:20261025T010000
END:STANDARD
END:VTIMEZONE
BEGIN:VEVENT
DTSTART;TZID=Europe/London:20251213T090000
DTEND;TZID=Europe/London:20251213T123000
DTSTAMP:20260424T001817
CREATED:20251014T134042Z
LAST-MODIFIED:20251014T134042Z
UID:3147-1765616400-1765629000@purrfectfriendcatrescue.org
SUMMARY:Table Top Sale
DESCRIPTION:The last table top sale at this location for 2025
URL:https://purrfectfriendcatrescue.org/event/table-top-sale-7/
LOCATION:Lytham Methodist Church Hall\, 6 Park Street\, Lytham\, FY8 5LU
END:VEVENT
END:VCALENDAR