BEGIN:VCALENDAR
VERSION:2.0
PRODID:-//A Purrfect Friend - ECPv6.15.16//NONSGML v1.0//EN
CALSCALE:GREGORIAN
METHOD:PUBLISH
X-ORIGINAL-URL:https://purrfectfriendcatrescue.org
X-WR-CALDESC:Events for A Purrfect Friend
REFRESH-INTERVAL;VALUE=DURATION:PT1H
X-Robots-Tag:noindex
X-PUBLISHED-TTL:PT1H
BEGIN:VTIMEZONE
TZID:Europe/London
BEGIN:DAYLIGHT
TZOFFSETFROM:+0000
TZOFFSETTO:+0100
TZNAME:BST
DTSTART:20240331T010000
END:DAYLIGHT
BEGIN:STANDARD
TZOFFSETFROM:+0100
TZOFFSETTO:+0000
TZNAME:GMT
DTSTART:20241027T010000
END:STANDARD
BEGIN:DAYLIGHT
TZOFFSETFROM:+0000
TZOFFSETTO:+0100
TZNAME:BST
DTSTART:20250330T010000
END:DAYLIGHT
BEGIN:STANDARD
TZOFFSETFROM:+0100
TZOFFSETTO:+0000
TZNAME:GMT
DTSTART:20251026T010000
END:STANDARD
BEGIN:DAYLIGHT
TZOFFSETFROM:+0000
TZOFFSETTO:+0100
TZNAME:BST
DTSTART:20260329T010000
END:DAYLIGHT
BEGIN:STANDARD
TZOFFSETFROM:+0100
TZOFFSETTO:+0000
TZNAME:GMT
DTSTART:20261025T010000
END:STANDARD
END:VTIMEZONE
BEGIN:VEVENT
DTSTART;TZID=Europe/London:20251109T100000
DTEND;TZID=Europe/London:20251109T153000
DTSTAMP:20260424T020429
CREATED:20251014T135750Z
LAST-MODIFIED:20251014T135750Z
UID:3151-1762682400-1762702200@purrfectfriendcatrescue.org
SUMMARY:KnitOne PurrOne craft stall
DESCRIPTION:
URL:https://purrfectfriendcatrescue.org/event/knitone-purrone-craft-stall/
LOCATION:New Longton Village Hall\, Boundary Close\, New Longton\, Lancs\, PR4 4BD
END:VEVENT
END:VCALENDAR